BEGIN:VCALENDAR
VERSION:2.0
PRODID:-//Monterey County Vintners &amp; Growers Association - ECPv6.15.15//NONSGML v1.0//EN
CALSCALE:GREGORIAN
METHOD:PUBLISH
X-ORIGINAL-URL:https://montereywines.org
X-WR-CALDESC:Events for Monterey County Vintners &amp; Growers Association
REFRESH-INTERVAL;VALUE=DURATION:PT1H
X-Robots-Tag:noindex
X-PUBLISHED-TTL:PT1H
BEGIN:VTIMEZONE
TZID:UTC
BEGIN:STANDARD
TZOFFSETFROM:+0000
TZOFFSETTO:+0000
TZNAME:UTC
DTSTART:20230101T000000
END:STANDARD
END:VTIMEZONE
BEGIN:VEVENT
DTSTART;TZID=UTC:20240225T160000
DTEND;TZID=UTC:20240225T180000
DTSTAMP:20260424T065422
CREATED:20240223T224452Z
LAST-MODIFIED:20240223T224459Z
UID:4056-1708876800-1708884000@montereywines.org
SUMMARY:Tastings & Tunes: Puma Road Portola Plaza
DESCRIPTION:Local artist Glenn Bell will entertain you and your friends while you’re enjoying a delicious flight of Puma Road wines.  Sunday\, February 25\, 4-6pm.
URL:https://montereywines.org/event/tastings-tunes-puma-road-portola-plaza/
LOCATION:Puma Road Portola Plaza\, 281 Alvarado St\, Monterey\, CA\, 93940\, United States
END:VEVENT
END:VCALENDAR