BEGIN:VCALENDAR
VERSION:2.0
PRODID:-//Monterey County Vintners &amp; Growers Association - ECPv6.15.15//NONSGML v1.0//EN
CALSCALE:GREGORIAN
METHOD:PUBLISH
X-WR-CALNAME:Monterey County Vintners &amp; Growers Association
X-ORIGINAL-URL:https://montereywines.org
X-WR-CALDESC:Events for Monterey County Vintners &amp; Growers Association
REFRESH-INTERVAL;VALUE=DURATION:PT1H
X-Robots-Tag:noindex
X-PUBLISHED-TTL:PT1H
BEGIN:VTIMEZONE
TZID:UTC
BEGIN:STANDARD
TZOFFSETFROM:+0000
TZOFFSETTO:+0000
TZNAME:UTC
DTSTART:20230101T000000
END:STANDARD
END:VTIMEZONE
BEGIN:VEVENT
DTSTART;TZID=UTC:20240315T170000
DTEND;TZID=UTC:20240315T190000
DTSTAMP:20260422T112957
CREATED:20240305T000008Z
LAST-MODIFIED:20240305T000047Z
UID:4086-1710522000-1710529200@montereywines.org
SUMMARY:March Live Music: Lindsay Beery at Albatross Ridge Winery & Kitchen\, Monterey\, CA
DESCRIPTION:March Live Music: Lindsay Beery at Albatross Ridge Winery & Kitchen\, Monterey\, CA \nMore live music is coming to Albatross Ridge’s Monterey location.  This month features some of our favorite local artists\, so get ready to groove with us all month long. Only at our amazing downtown Monterey location on Alvarado Street! Save the dates\, enjoy some wine\, and feel the rhythm. Let’s make March one to remember! \nFriday March 15th – 5:00 pm – 7:00 pm
URL:https://montereywines.org/event/march-live-music-lindsay-beery-at-albatross-ridge-winery-kitchen-monterey-ca-2/
LOCATION:Albatross Ridge Winery & Kitchen\, 316 Alvarado St\, Monterey\, CA\, 93940\, United States
END:VEVENT
END:VCALENDAR