BEGIN:VCALENDAR
VERSION:2.0
PRODID:-//Monterey County Vintners &amp; Growers Association - ECPv6.15.15//NONSGML v1.0//EN
CALSCALE:GREGORIAN
METHOD:PUBLISH
X-WR-CALNAME:Monterey County Vintners &amp; Growers Association
X-ORIGINAL-URL:https://montereywines.org
X-WR-CALDESC:Events for Monterey County Vintners &amp; Growers Association
REFRESH-INTERVAL;VALUE=DURATION:PT1H
X-Robots-Tag:noindex
X-PUBLISHED-TTL:PT1H
BEGIN:VTIMEZONE
TZID:UTC
BEGIN:STANDARD
TZOFFSETFROM:+0000
TZOFFSETTO:+0000
TZNAME:UTC
DTSTART:20230101T000000
END:STANDARD
END:VTIMEZONE
BEGIN:VEVENT
DTSTART;TZID=UTC:20240316T170000
DTEND;TZID=UTC:20240316T190000
DTSTAMP:20260422T095814
CREATED:20240304T222050Z
LAST-MODIFIED:20240304T222243Z
UID:4078-1710608400-1710615600@montereywines.org
SUMMARY:March Live Music: Peter Barnes Martin at Albatross Ridge Winery & Kitchen\, Monterey\, CA
DESCRIPTION:More live music is coming! This month features some of our favorite local artists\, so get ready to groove with us all month long. Only at our amazing downtown Monterey location on Alvarado Street! Save the dates\, enjoy local wines\, and feel the rhythm. \nSaturday March 16\, 5:00 pm-7:00 pm Local artist Peter Barnes Martin (peterbarnesmartin.com)
URL:https://montereywines.org/event/march-live-music-peter-barnes-martin-at-albatross-ridge-winery-kitchen-monterey-ca/
LOCATION:Albatross Ridge Winery & Kitchen\, 316 Alvarado St\, Monterey\, CA\, 93940\, United States
END:VEVENT
END:VCALENDAR