BEGIN:VCALENDAR
VERSION:2.0
PRODID:-//Monterey County Vintners &amp; Growers Association - ECPv6.15.15//NONSGML v1.0//EN
CALSCALE:GREGORIAN
METHOD:PUBLISH
X-ORIGINAL-URL:https://montereywines.org
X-WR-CALDESC:Events for Monterey County Vintners &amp; Growers Association
REFRESH-INTERVAL;VALUE=DURATION:PT1H
X-Robots-Tag:noindex
X-PUBLISHED-TTL:PT1H
BEGIN:VTIMEZONE
TZID:UTC
BEGIN:STANDARD
TZOFFSETFROM:+0000
TZOFFSETTO:+0000
TZNAME:UTC
DTSTART:20230101T000000
END:STANDARD
END:VTIMEZONE
BEGIN:VEVENT
DTSTART;VALUE=DATE:20240404
DTEND;VALUE=DATE:20240409
DTSTAMP:20260421T110618
CREATED:20240327T214537Z
LAST-MODIFIED:20240327T214537Z
UID:4138-1712188800-1712620799@montereywines.org
SUMMARY:Pebble Beach Food & Wine
DESCRIPTION:Pebble Beach Food & Wine \nThe Nation’s Premier Celebration of Food\, Drink\, and Culture is back! \nTASTINGS • SEMINARS • MASTERCLASSES • DINNERS \nPebble Beach Food & Wine encapsulates the essence of Pebble Beach Resorts—blending rich history\, scenic beauty\, and legends of their crafts. The festival is a fusion of tradition\, innovation\, and the spirit of hospitality that makes Pebble Beach a premier destination. \n\nPebble Beach Food & Wine is proudly hosted by Pebble Beach Company Foundation\, a non-profit with the mission to provide our county’s youth with the building blocks of success. Your ticket will impact over 10\,000 children annually and contribute to the $14.1 million in giving since the foundation’s inception in 1975. \nJoin our friends at Pebble Beach April 4th – 7th at Pebble Beach Resorts to support the cause. \n\nLEARN MORE
URL:https://montereywines.org/event/pebble-beach-food-wine/
LOCATION:Pebble Beach Resorts\, Pebble Beach\, United States
END:VEVENT
END:VCALENDAR