BEGIN:VCALENDAR
VERSION:2.0
PRODID:-//Monterey County Vintners &amp; Growers Association - ECPv6.15.15//NONSGML v1.0//EN
CALSCALE:GREGORIAN
METHOD:PUBLISH
X-ORIGINAL-URL:https://montereywines.org
X-WR-CALDESC:Events for Monterey County Vintners &amp; Growers Association
REFRESH-INTERVAL;VALUE=DURATION:PT1H
X-Robots-Tag:noindex
X-PUBLISHED-TTL:PT1H
BEGIN:VTIMEZONE
TZID:UTC
BEGIN:STANDARD
TZOFFSETFROM:+0000
TZOFFSETTO:+0000
TZNAME:UTC
DTSTART:20230101T000000
END:STANDARD
END:VTIMEZONE
BEGIN:VEVENT
DTSTART;TZID=UTC:20240613T170000
DTEND;TZID=UTC:20240613T190000
DTSTAMP:20260419T135538
CREATED:20240605T202042Z
LAST-MODIFIED:20240605T202042Z
UID:4192-1718298000-1718305200@montereywines.org
SUMMARY:Scheid Vineyards: Thursday Night Trivia
DESCRIPTION:
URL:https://montereywines.org/event/scheid-vineyards-thursday-night-trivia/
LOCATION:Scheid Vineyards Carmel\, SE Corner San Carlos & 7th\, Carmel-by-the-Sea
END:VEVENT
END:VCALENDAR