BEGIN:VCALENDAR
VERSION:2.0
PRODID:-//Monterey County Vintners &amp; Growers Association - ECPv6.15.15//NONSGML v1.0//EN
CALSCALE:GREGORIAN
METHOD:PUBLISH
X-WR-CALNAME:Monterey County Vintners &amp; Growers Association
X-ORIGINAL-URL:https://montereywines.org
X-WR-CALDESC:Events for Monterey County Vintners &amp; Growers Association
REFRESH-INTERVAL;VALUE=DURATION:PT1H
X-Robots-Tag:noindex
X-PUBLISHED-TTL:PT1H
BEGIN:VTIMEZONE
TZID:UTC
BEGIN:STANDARD
TZOFFSETFROM:+0000
TZOFFSETTO:+0000
TZNAME:UTC
DTSTART:20230101T000000
END:STANDARD
END:VTIMEZONE
BEGIN:VEVENT
DTSTART;TZID=UTC:20240621T150000
DTEND;TZID=UTC:20240621T180000
DTSTAMP:20260421T082916
CREATED:20240605T205353Z
LAST-MODIFIED:20240605T205353Z
UID:4227-1718982000-1718992800@montereywines.org
SUMMARY:Windy Oaks Estate: Fromage Friday Cheese Pairing
DESCRIPTION:
URL:https://montereywines.org/event/windy-oaks-estate-fromage-friday-cheese-pairing-2/
LOCATION:Windy Oaks Estate Carmel-by-the-Sea\, LINCOLN BET OCEAN &\, 6th Ave\, Carmel-by-the-Sea\, CA\, 93921\, United States
END:VEVENT
END:VCALENDAR